BEGIN:VCALENDAR
VERSION:2.0
PRODID:-//wp-events-plugin.com//7.2.3.1//EN
TZID:Europe/Paris
X-WR-TIMEZONE:Europe/Paris
BEGIN:VEVENT
UID:4@satori-dojo.fr
DTSTART;TZID=Europe/Paris:20240917T090000
DTEND;TZID=Europe/Paris:20240917T100000
DTSTAMP:20240825T140740Z
URL:https://satori-dojo.fr/events/qi-gong-2024-09-17/
SUMMARY:Qi Gong
DESCRIPTION:Le cours commence 5 minutes avant l'heure indiquée
CATEGORIES:Qi Gong
END:VEVENT
BEGIN:VTIMEZONE
TZID:Europe/Paris
X-LIC-LOCATION:Europe/Paris
BEGIN:DAYLIGHT
DTSTART:20240331T030000
TZOFFSETFROM:+0100
TZOFFSETTO:+0200
TZNAME:CEST
END:DAYLIGHT
END:VTIMEZONE
END:VCALENDAR